BEGIN:VCALENDAR
VERSION:2.0
PRODID:-//Tukios.com/
BEGIN:VEVENT
UID:35a39e90-2e77-48a6-86a1-d37742b270b4@www.eternalrestfuneral.com
DTSTAMP:20260420T231750Z
DTSTART:20260502T160000Z
DTEND:20260502T170000Z
SUMMARY:Funeral Service for Farenda Brown
DESCRIPTION:
URL:https://www.eternalrestfuneral.com/obituaries/farenda-brown
LOCATION:Eternal Rest Desoto Large Chapel 1400 N Hampton Rd  Desoto TX 
	75115
GEO:32.6153695;-96.8560833
END:VEVENT
END:VCALENDAR