BEGIN:VCALENDAR
VERSION:2.0
PRODID:-//Tukios.com/
BEGIN:VEVENT
UID:74d71611-f5e7-4348-831a-5c2c0cdd92eb@www.eternalrestfuneral.com
DTSTAMP:20260420T231950Z
DTSTART:20260501T190000Z
DTEND:20260502T000000Z
SUMMARY:Visitation for Farenda Brown
DESCRIPTION:
URL:https://www.eternalrestfuneral.com/obituaries/farenda-brown
LOCATION:Eternal Rest Funeral Home Desoto 1400 N Hampton Rd  Desoto TX 
	75115
GEO:32.6153695;-96.8560833
END:VEVENT
END:VCALENDAR