BEGIN:VCALENDAR
VERSION:2.0
PRODID:-//Tukios.com/
BEGIN:VEVENT
UID:d4177c1b-f215-46b2-a286-1e725151e9d9@www.eternalrestfuneral.com
DTSTAMP:20260422T032605Z
DTSTART:20260425T160000Z
DTEND:20260425T170000Z
SUMMARY:Funeral Service for Harry Clewis Jr
DESCRIPTION:
URL:https://www.eternalrestfuneral.com/obituaries/harry-clewis
LOCATION:Eternal Rest Desoto Large Chapel 1400 N Hampton Rd  Desoto TX 
	75115
GEO:32.6153695;-96.8560833
END:VEVENT
END:VCALENDAR