BEGIN:VCALENDAR
VERSION:2.0
PRODID:-//Tukios.com/
BEGIN:VEVENT
UID:e26eb8aa-26b9-4b19-ad9f-41602e6dce7d@www.eternalrestfuneral.com
DTSTAMP:20260422T032022Z
DTSTART:20260424T190000Z
DTEND:20260424T230000Z
SUMMARY:Visitation for Harry Clewis Jr
DESCRIPTION:
URL:https://www.eternalrestfuneral.com/obituaries/harry-clewis
LOCATION:Eternal Rest Funeral Home Desoto 1400 N Hampton Rd  Desoto TX 
	75115
GEO:32.6153695;-96.8560833
END:VEVENT
END:VCALENDAR