BEGIN:VCALENDAR
VERSION:2.0
PRODID:-//Tukios.com/
BEGIN:VEVENT
UID:41c24fbb-645e-452c-866f-4151d0dc978f@www.eternalrestfuneral.com
DTSTAMP:20260422T015901Z
DTSTART:20260425T170000Z
DTEND:20260425T180000Z
SUMMARY:Funeral Service for Ocean Blu Howard
DESCRIPTION:
URL:https://www.eternalrestfuneral.com/obituaries/ocean-howard
LOCATION:GECOP 1430 North Polk Street  DeSoto TX 75115
GEO:32.6166184;-96.8394743
END:VEVENT
END:VCALENDAR