BEGIN:VCALENDAR
VERSION:2.0
PRODID:-//Tukios.com/
BEGIN:VEVENT
UID:392db853-c514-4f30-b58e-e692f8bb315b@www.eternalrestfuneral.com
DTSTAMP:20260420T040257Z
DTSTART:20260423T143000Z
DTEND:20260423T153000Z
SUMMARY:Inurnment Service for Ralph Smith
DESCRIPTION:
URL:https://www.eternalrestfuneral.com/obituaries/ralph-smith
LOCATION:Mountain Creek Cemetery 2900 Hardy Road  Grand Prairie TX 75052
GEO:32.7040886;-96.9856085
END:VEVENT
END:VCALENDAR