BEGIN:VCALENDAR
VERSION:2.0
PRODID:-//Tukios.com/
BEGIN:VEVENT
UID:c9ea62a7-e065-4ee5-8ba4-4c15b9b6da79@www.eternalrestfuneral.com
DTSTAMP:20260423T232858Z
DTSTART:20260501T190000Z
DTEND:20260501T200000Z
SUMMARY:Funeral Service for Sacori Damon Pitts
DESCRIPTION:
URL:https://www.eternalrestfuneral.com/obituaries/sacori-pitts
LOCATION:Eternal Rest Desoto Large Chapel 1400 N Hampton Rd  Desoto TX 
	75115
GEO:32.6153695;-96.8560833
END:VEVENT
END:VCALENDAR